BEGIN:VCALENDAR
VERSION:2.0
PRODID:-//hacksw/handcal//NONSGML v1.0//EN
CALSCALE:GREGORIAN
BEGIN:VEVENT
DTEND:20130517T130500Z
UID:69e734257c007
LOCATION:
DESCRIPTION:
URL;VALUE=URI:
SUMMARY:May 17, 2013 Groundfish Committe Meeting
DTSTART:20130517T130500Z
END:VEVENT
END:VCALENDAR