BEGIN:VCALENDAR
VERSION:2.0
PRODID:-//hacksw/handcal//NONSGML v1.0//EN
CALSCALE:GREGORIAN
BEGIN:VEVENT
DTEND:20131120T022700Z
UID:69e733875bdcb
LOCATION:
DESCRIPTION:
URL;VALUE=URI:
SUMMARY:November 2013 Council Meeting
DTSTART:20131120T022700Z
END:VEVENT
END:VCALENDAR