BEGIN:VCALENDAR
VERSION:2.0
PRODID:-//hacksw/handcal//NONSGML v1.0//EN
CALSCALE:GREGORIAN
BEGIN:VEVENT
DTEND:20140114T082400Z
UID:69e73aad1a728
LOCATION:
DESCRIPTION:
URL;VALUE=URI:
SUMMARY:Jan. 14, 2014 Herring Committee Meeting
DTSTART:20140114T082400Z
END:VEVENT
END:VCALENDAR