BEGIN:VCALENDAR
VERSION:2.0
PRODID:-//hacksw/handcal//NONSGML v1.0//EN
CALSCALE:GREGORIAN
BEGIN:VEVENT
DTEND:20140328T091500Z
UID:69e73a9d603b9
LOCATION:
DESCRIPTION:
URL;VALUE=URI:
SUMMARY:March 28, 2014 Groundfish Committee Meeting
DTSTART:20140328T091500Z
END:VEVENT
END:VCALENDAR