BEGIN:VCALENDAR
VERSION:2.0
PRODID:-//hacksw/handcal//NONSGML v1.0//EN
CALSCALE:GREGORIAN
BEGIN:VEVENT
DTEND:20200527T123600Z
UID:69e7c1f86ee4a
LOCATION:
DESCRIPTION:
URL;VALUE=URI:
SUMMARY:May 27, 2020 Fall 2020 Management Track Assessments – AOP Meeting
DTSTART:20200527T123600Z
END:VEVENT
END:VCALENDAR