BEGIN:VCALENDAR
VERSION:2.0
PRODID:-//hacksw/handcal//NONSGML v1.0//EN
CALSCALE:GREGORIAN
BEGIN:VEVENT
DTEND:20200527T141700Z
UID:69e7d5a4a889b
LOCATION:
DESCRIPTION:
URL;VALUE=URI:
SUMMARY:May 27, 2020 Fall 2020 Management Track Assessments – AOP Meeting
DTSTART:20200527T141700Z
END:VEVENT
END:VCALENDAR