BEGIN:VCALENDAR
VERSION:2.0
PRODID:-//hacksw/handcal//NONSGML v1.0//EN
CALSCALE:GREGORIAN
BEGIN:VEVENT
DTEND:20200609T083000Z
UID:69e73b24eb04b
LOCATION:
DESCRIPTION:
URL;VALUE=URI:
SUMMARY:Jun. 9, 2020 Herring Advisory Panel Meeting
DTSTART:20200609T083000Z
END:VEVENT
END:VCALENDAR