BEGIN:VCALENDAR
VERSION:2.0
PRODID:-//hacksw/handcal//NONSGML v1.0//EN
CALSCALE:GREGORIAN
BEGIN:VEVENT
DTEND:20200612T150900Z
UID:69e7e25cb8d0c
LOCATION:
DESCRIPTION:
URL;VALUE=URI:
SUMMARY:Jun. 12, 2020 EBFM Committee Webinar
DTSTART:20200612T150900Z
END:VEVENT
END:VCALENDAR