BEGIN:VCALENDAR
VERSION:2.0
PRODID:-//hacksw/handcal//NONSGML v1.0//EN
CALSCALE:GREGORIAN
BEGIN:VEVENT
DTEND:20201130T124000Z
UID:69e73adfa7284
LOCATION:
DESCRIPTION:
URL;VALUE=URI:
SUMMARY:Nov. 30, 2020 Groundfish Advisory Panel Webinar
DTSTART:20201130T124000Z
END:VEVENT
END:VCALENDAR