BEGIN:VCALENDAR
VERSION:2.0
PRODID:-//hacksw/handcal//NONSGML v1.0//EN
CALSCALE:GREGORIAN
BEGIN:VEVENT
DTEND:20210806T090000Z
UID:69e7376632004
LOCATION:
DESCRIPTION:
URL;VALUE=URI:
SUMMARY:Aug. 6, 2021 Groundfish Committee Webinar
DTSTART:20210806T090000Z
END:VEVENT
END:VCALENDAR