BEGIN:VCALENDAR
VERSION:2.0
PRODID:-//hacksw/handcal//NONSGML v1.0//EN
CALSCALE:GREGORIAN
BEGIN:VEVENT
DTEND:20211026T232400Z
UID:69e73b4ea7945
LOCATION:
DESCRIPTION:
URL;VALUE=URI:
SUMMARY:Oct. 26, 2021 Habitat Joint Advisory Panel and Committee
DTSTART:20211026T232400Z
END:VEVENT
END:VCALENDAR