BEGIN:VCALENDAR
VERSION:2.0
PRODID:-//hacksw/handcal//NONSGML v1.0//EN
CALSCALE:GREGORIAN
BEGIN:VEVENT
DTEND:20220209T130000Z
UID:69e74e2e0051a
LOCATION:
DESCRIPTION:
URL;VALUE=URI:
SUMMARY:Feb. 9, 2022 Atlantic Cod Stakeholder Engagement Session
DTSTART:20220209T130000Z
END:VEVENT
END:VCALENDAR