BEGIN:VCALENDAR
VERSION:2.0
PRODID:-//hacksw/handcal//NONSGML v1.0//EN
CALSCALE:GREGORIAN
BEGIN:VEVENT
DTEND:20220302T150000Z
UID:69e76207df946
LOCATION:
DESCRIPTION:
URL;VALUE=URI:
SUMMARY:Mar. 2, 2022 Climate Change Scenario Planning Webinar: Social and Economic Drivers
DTSTART:20220302T150000Z
END:VEVENT
END:VCALENDAR