BEGIN:VCALENDAR
VERSION:2.0
PRODID:-//hacksw/handcal//NONSGML v1.0//EN
CALSCALE:GREGORIAN
BEGIN:VEVENT
DTEND:20220610T083000Z
UID:69e73b0f6e3d2
LOCATION:
DESCRIPTION:
URL;VALUE=URI:
SUMMARY:Jun. 10, 2022 Habitat Committee Meeting
DTSTART:20220610T083000Z
END:VEVENT
END:VCALENDAR