BEGIN:VCALENDAR
VERSION:2.0
PRODID:-//hacksw/handcal//NONSGML v1.0//EN
CALSCALE:GREGORIAN
BEGIN:VEVENT
DTEND:20230710T100000Z
UID:69e6030581536
LOCATION:
DESCRIPTION:
URL;VALUE=URI:
SUMMARY:Jul. 10, 2023 Skate Plan Development Team Webinar
DTSTART:20230710T100000Z
END:VEVENT
END:VCALENDAR