BEGIN:VCALENDAR
VERSION:2.0
PRODID:-//hacksw/handcal//NONSGML v1.0//EN
CALSCALE:GREGORIAN
BEGIN:VEVENT
DTEND:20240509T090000Z
UID:69e761e67ff36
LOCATION:
DESCRIPTION:
URL;VALUE=URI:
SUMMARY:May 9, 2024 Scallop Plan Development Team Research Share Day Webinar
DTSTART:20240509T090000Z
END:VEVENT
END:VCALENDAR