BEGIN:VCALENDAR
VERSION:2.0
PRODID:-//hacksw/handcal//NONSGML v1.0//EN
CALSCALE:GREGORIAN
BEGIN:VEVENT
DTEND:20240822T130000Z
UID:69e5de1a6b4f8
LOCATION:
DESCRIPTION:
URL;VALUE=URI:
SUMMARY:Aug. 22, 2024 Northeast Trawl Advisory Panel (NTAP) Working Group Webinar Meeting
DTSTART:20240822T130000Z
END:VEVENT
END:VCALENDAR