BEGIN:VCALENDAR
VERSION:2.0
PRODID:-//hacksw/handcal//NONSGML v1.0//EN
CALSCALE:GREGORIAN
BEGIN:VEVENT
DTEND:20250618T123000Z
UID:69e618b4594ba
LOCATION:
DESCRIPTION:
URL;VALUE=URI:
SUMMARY:Jun. 18, 2025 Risk Policy Working Group Webinar
DTSTART:20250618T123000Z
END:VEVENT
END:VCALENDAR