BEGIN:VCALENDAR
VERSION:2.0
PRODID:-//hacksw/handcal//NONSGML v1.0//EN
CALSCALE:GREGORIAN
BEGIN:VEVENT
DTEND:20260120T130000Z
UID:69e73abb57fab
LOCATION:
DESCRIPTION:
URL;VALUE=URI:
SUMMARY:Jan. 20, 2026 Groundfish Committee Webinar
DTSTART:20260120T130000Z
END:VEVENT
END:VCALENDAR